BEGIN:VCALENDAR
VERSION:2.0
PRODID:-//Grace Woodlands - ECPv6.15.20//NONSGML v1.0//EN
CALSCALE:GREGORIAN
METHOD:PUBLISH
X-ORIGINAL-URL:https://gracewoodlands.com
X-WR-CALDESC:Events for Grace Woodlands
REFRESH-INTERVAL;VALUE=DURATION:PT1H
X-Robots-Tag:noindex
X-PUBLISHED-TTL:PT1H
BEGIN:VTIMEZONE
TZID:UTC
BEGIN:STANDARD
TZOFFSETFROM:+0000
TZOFFSETTO:+0000
TZNAME:UTC
DTSTART:20220101T000000
END:STANDARD
END:VTIMEZONE
BEGIN:VEVENT
DTSTART;TZID=UTC:20250728T190000
DTEND;TZID=UTC:20250728T210000
DTSTAMP:20260423T034905
CREATED:20240522T132613Z
LAST-MODIFIED:20250706T025134Z
UID:10000519-1753729200-1753736400@gracewoodlands.com
SUMMARY:Principles of Biblical Interpretation with Dr. Sam Thomas
DESCRIPTION:
URL:https://gracewoodlands.com/event/biblical-interpretation/
LOCATION:Grace Woodlands\, 24400 Interstate 45\, The Woodlands\, TX\, 77386\, United States
CATEGORIES:Seminar
ATTACH;FMTTYPE=image/jpeg:https://gracewoodlands.com/wp-content/uploads/2024/05/WEB-Principles-of-Biblical-Interpretation.jpg
ORGANIZER;CN="Grace School of Ministry":MAILTO:specialprojects@gracewoodlands.com
END:VEVENT
BEGIN:VEVENT
DTSTART;TZID=UTC:20250609T190000
DTEND;TZID=UTC:20250609T210000
DTSTAMP:20260423T034905
CREATED:20230611T151016Z
LAST-MODIFIED:20250528T161018Z
UID:10000464-1749495600-1749502800@gracewoodlands.com
SUMMARY:Introduction to Christian Doctrines Part 2 with Dr. Sam Thomas
DESCRIPTION:
URL:https://gracewoodlands.com/event/intro-christian-doctrines/
LOCATION:Grace Woodlands\, 24400 Interstate 45\, The Woodlands\, TX\, 77386\, United States
CATEGORIES:Seminar
ATTACH;FMTTYPE=image/jpeg:https://gracewoodlands.com/wp-content/uploads/2023/06/WEB-Introduction-to-Christian-Doctrines-Part-2.jpg
ORGANIZER;CN="Grace School of Ministry":MAILTO:specialprojects@gracewoodlands.com
END:VEVENT
BEGIN:VEVENT
DTSTART;TZID=UTC:20250519T190000
DTEND;TZID=UTC:20250519T210000
DTSTAMP:20260423T034905
CREATED:20250211T070549Z
LAST-MODIFIED:20250507T184631Z
UID:10000552-1747681200-1747688400@gracewoodlands.com
SUMMARY:History of the Early Church with Jason Nelson
DESCRIPTION:
URL:https://gracewoodlands.com/event/early-church/
LOCATION:Grace Woodlands\, 24400 Interstate 45\, The Woodlands\, TX\, 77386\, United States
CATEGORIES:Seminar
ATTACH;FMTTYPE=image/jpeg:https://gracewoodlands.com/wp-content/uploads/2025/02/WEB-History-of-the-Early-Church_JN.jpg
ORGANIZER;CN="Grace School of Ministry":MAILTO:specialprojects@gracewoodlands.com
END:VEVENT
BEGIN:VEVENT
DTSTART;TZID=UTC:20250109T093000
DTEND;TZID=UTC:20250109T123000
DTSTAMP:20260423T034905
CREATED:20250103T011329Z
LAST-MODIFIED:20250103T011329Z
UID:10000529-1736415000-1736425800@gracewoodlands.com
SUMMARY:New Testament Survey with Dr. Jeffrey Seif
DESCRIPTION:
URL:https://gracewoodlands.com/event/new-testament-survey/
LOCATION:Grace Woodlands\, 24400 Interstate 45\, The Woodlands\, TX\, 77386\, United States
CATEGORIES:Seminar
ATTACH;FMTTYPE=image/jpeg:https://gracewoodlands.com/wp-content/uploads/2025/01/WEB-History-of-pentecostal-and-charismatic-movements-2.jpg
ORGANIZER;CN="Grace School of Ministry":MAILTO:specialprojects@gracewoodlands.com
END:VEVENT
BEGIN:VEVENT
DTSTART;TZID=UTC:20241121T103000
DTEND;TZID=UTC:20241121T140000
DTSTAMP:20260423T034905
CREATED:20241022T040427Z
LAST-MODIFIED:20241022T040427Z
UID:10000528-1732185000-1732197600@gracewoodlands.com
SUMMARY:History of Pentecostal and Charismatic Movements
DESCRIPTION:
URL:https://gracewoodlands.com/event/history-of-pentecostal-and-charismatic-movements/
LOCATION:Grace Woodlands\, 24400 Interstate 45\, The Woodlands\, TX\, 77386\, United States
CATEGORIES:Seminar
ATTACH;FMTTYPE=image/jpeg:https://gracewoodlands.com/wp-content/uploads/2024/10/WEB-History-of-pentecostal-and-charismatic-movements.jpg
ORGANIZER;CN="Grace School of Ministry":MAILTO:specialprojects@gracewoodlands.com
END:VEVENT
BEGIN:VEVENT
DTSTART;TZID=UTC:20240919T103000
DTEND;TZID=UTC:20240919T140000
DTSTAMP:20260423T034905
CREATED:20240422T211807Z
LAST-MODIFIED:20240828T045037Z
UID:10000515-1726741800-1726754400@gracewoodlands.com
SUMMARY:A History of Israel: Ancient and Modern with Dr. Jeffrey Seif
DESCRIPTION:
URL:https://gracewoodlands.com/event/history-of-israel/
LOCATION:Grace Woodlands\, 24400 Interstate 45\, The Woodlands\, TX\, 77386\, United States
CATEGORIES:Seminar
ATTACH;FMTTYPE=image/jpeg:https://gracewoodlands.com/wp-content/uploads/2024/04/WEB-A-History-of-Israel.jpg
ORGANIZER;CN="Grace School of Ministry":MAILTO:specialprojects@gracewoodlands.com
END:VEVENT
BEGIN:VEVENT
DTSTART;TZID=UTC:20240321T103000
DTEND;TZID=UTC:20240321T140000
DTSTAMP:20260423T034905
CREATED:20231114T145613Z
LAST-MODIFIED:20240227T050701Z
UID:10000506-1711017000-1711029600@gracewoodlands.com
SUMMARY:The Life & Teachings of Paul with Dr. Sam Thomas
DESCRIPTION:
URL:https://gracewoodlands.com/event/life-and-teachings-of-paul/
LOCATION:Grace Woodlands\, 24400 Interstate 45\, The Woodlands\, TX\, 77386\, United States
CATEGORIES:Seminar
ATTACH;FMTTYPE=image/jpeg:https://gracewoodlands.com/wp-content/uploads/2023/11/WEB-The-Life-and-Teachings-of-Paul_ST-1.jpg
ORGANIZER;CN="Grace School of Ministry":MAILTO:specialprojects@gracewoodlands.com
END:VEVENT
BEGIN:VEVENT
DTSTART;TZID=UTC:20230928T100000
DTEND;TZID=UTC:20230928T140000
DTSTAMP:20260423T034905
CREATED:20230615T181956Z
LAST-MODIFIED:20230810T235710Z
UID:10000470-1695895200-1695909600@gracewoodlands.com
SUMMARY:Unlocking the Mysteries of Creation - Part 3 with Dennis Petersen
DESCRIPTION:
URL:https://gracewoodlands.com/event/unlocking-the-mysteries-of-creation-part-3/
LOCATION:Grace Woodlands\, 24400 Interstate 45\, The Woodlands\, TX\, 77386\, United States
CATEGORIES:Seminar
ATTACH;FMTTYPE=image/jpeg:https://gracewoodlands.com/wp-content/uploads/2023/06/WEB-Unlocking-Mysteries-PART-3-1.jpg
ORGANIZER;CN="Grace School of Ministry":MAILTO:specialprojects@gracewoodlands.com
END:VEVENT
BEGIN:VEVENT
DTSTART;TZID=UTC:20230817T100000
DTEND;TZID=UTC:20230817T140000
DTSTAMP:20260423T034905
CREATED:20230615T181754Z
LAST-MODIFIED:20230810T235412Z
UID:10000469-1692266400-1692280800@gracewoodlands.com
SUMMARY:Unlocking the Mysteries of Creation - Part 2 with Dennis Petersen
DESCRIPTION:
URL:https://gracewoodlands.com/event/unlocking-the-mysteries-of-creation-part-1-with-dennis-petersen-2/
LOCATION:Grace Woodlands\, 24400 Interstate 45\, The Woodlands\, TX\, 77386\, United States
CATEGORIES:Seminar
ATTACH;FMTTYPE=image/jpeg:https://gracewoodlands.com/wp-content/uploads/2023/06/WEB-Unlocking-Mysteries-PART-2-1.jpg
ORGANIZER;CN="Grace School of Ministry":MAILTO:specialprojects@gracewoodlands.com
END:VEVENT
BEGIN:VEVENT
DTSTART;TZID=UTC:20230727T100000
DTEND;TZID=UTC:20230727T140000
DTSTAMP:20260423T034905
CREATED:20230615T181116Z
LAST-MODIFIED:20230615T191216Z
UID:10000468-1690452000-1690466400@gracewoodlands.com
SUMMARY:Unlocking the Mysteries of Creation - Part 1 with Dennis Petersen
DESCRIPTION:
URL:https://gracewoodlands.com/event/unlocking-the-mysteries-of-creation/
LOCATION:Grace Woodlands\, 24400 Interstate 45\, The Woodlands\, TX\, 77386\, United States
CATEGORIES:Seminar
ATTACH;FMTTYPE=image/jpeg:https://gracewoodlands.com/wp-content/uploads/2023/06/WEB-Unlocking-Mysteries-PART-1.jpg
ORGANIZER;CN="Grace School of Ministry":MAILTO:specialprojects@gracewoodlands.com
END:VEVENT
BEGIN:VEVENT
DTSTART;TZID=UTC:20230622T100000
DTEND;TZID=UTC:20230622T140000
DTSTAMP:20260423T034905
CREATED:20230611T150347Z
LAST-MODIFIED:20230611T151710Z
UID:10000463-1687428000-1687442400@gracewoodlands.com
SUMMARY:The Uniqueness of Jesus - Part 1 with Dr. Sam Thomas
DESCRIPTION:
URL:https://gracewoodlands.com/event/the-uniqueness-of-jesus-part-1/
LOCATION:Grace Woodlands\, 24400 Interstate 45\, The Woodlands\, TX\, 77386\, United States
CATEGORIES:Seminar
ATTACH;FMTTYPE=image/jpeg:https://gracewoodlands.com/wp-content/uploads/2023/06/WEB-The-Uniqueness-of-Jesus-June-22-1.jpg
ORGANIZER;CN="Grace School of Ministry":MAILTO:specialprojects@gracewoodlands.com
END:VEVENT
BEGIN:VEVENT
DTSTART;TZID=UTC:20230518T103000
DTEND;TZID=UTC:20230518T133000
DTSTAMP:20260423T034905
CREATED:20230517T144014Z
LAST-MODIFIED:20230517T144349Z
UID:10000460-1684405800-1684416600@gracewoodlands.com
SUMMARY:Commonalities of Sustainable Revival with Dr. Doug Stringer
DESCRIPTION:
URL:https://gracewoodlands.com/event/commonalities/
LOCATION:Grace Woodlands\, 24400 Interstate 45\, The Woodlands\, TX\, 77386\, United States
CATEGORIES:Seminar
ATTACH;FMTTYPE=image/jpeg:https://gracewoodlands.com/wp-content/uploads/2023/05/WEB-Commonalities-DS.jpg
ORGANIZER;CN="Grace School of Ministry":MAILTO:specialprojects@gracewoodlands.com
END:VEVENT
BEGIN:VEVENT
DTSTART;TZID=UTC:20230302T103000
DTEND;TZID=UTC:20230302T140000
DTSTAMP:20260423T034905
CREATED:20230221T210047Z
LAST-MODIFIED:20230221T210513Z
UID:10000439-1677753000-1677765600@gracewoodlands.com
SUMMARY:Applying the Blood of Jesus to your Life and Ministry
DESCRIPTION:
URL:https://gracewoodlands.com/event/applying-the-blood-of-jesus/
LOCATION:Grace Woodlands\, 24400 Interstate 45\, The Woodlands\, TX\, 77386\, United States
CATEGORIES:Seminar
ATTACH;FMTTYPE=image/jpeg:https://gracewoodlands.com/wp-content/uploads/2023/02/WEB-Applying-the-Blood-of-Jesus_JCM.jpg
ORGANIZER;CN="Grace School of Ministry":MAILTO:specialprojects@gracewoodlands.com
END:VEVENT
BEGIN:VEVENT
DTSTART;TZID=UTC:20230209T103000
DTEND;TZID=UTC:20230209T133000
DTSTAMP:20260423T034905
CREATED:20230130T154447Z
LAST-MODIFIED:20230130T154652Z
UID:10000438-1675938600-1675949400@gracewoodlands.com
SUMMARY:Leading the Bleeding with Dr. Jeffrey Seif
DESCRIPTION:
URL:https://gracewoodlands.com/event/leading-the-bleeding-seminar/
LOCATION:Grace Woodlands\, 24400 Interstate 45\, The Woodlands\, TX\, 77386\, United States
CATEGORIES:Seminar
ATTACH;FMTTYPE=image/jpeg:https://gracewoodlands.com/wp-content/uploads/2023/01/WEB-Leading-the-Bleeding.jpg
ORGANIZER;CN="Grace School of Ministry":MAILTO:specialprojects@gracewoodlands.com
END:VEVENT
BEGIN:VEVENT
DTSTART;TZID=UTC:20230126T103000
DTEND;TZID=UTC:20230126T133000
DTSTAMP:20260423T034905
CREATED:20230111T235631Z
LAST-MODIFIED:20230123T200213Z
UID:10000116-1674729000-1674739800@gracewoodlands.com
SUMMARY:The Churches of The New Testament with Dr. Sam Thomas
DESCRIPTION:
URL:https://gracewoodlands.com/event/churches-new-testament/
LOCATION:Grace Woodlands\, 24400 Interstate 45\, The Woodlands\, TX\, 77386\, United States
CATEGORIES:Seminar
ATTACH;FMTTYPE=image/jpeg:https://gracewoodlands.com/wp-content/uploads/2023/01/WEB-New-Testament-Churches.jpg
ORGANIZER;CN="Grace School of Ministry":MAILTO:specialprojects@gracewoodlands.com
END:VEVENT
END:VCALENDAR